BEGIN:VCALENDAR
VERSION:2.0
PRODID:-//hacksw/handcal//NONSGML v1.0//EN
BEGIN:VEVENT
SUMMARY:Theo en fete
UID:f470ba05-a300-4a9c-a63d-29c1714b3d5a
DTSTART:20260613T130000Z
DTEND:20260613T214500Z
LOCATION:Localisation   
CATEGORIES:Festif
STATUS:
URL;VALUE=URI:https://www.theobasket.fr/evenements/2026/06/13/theo-en-fete-2433573
END:VEVENT
END:VCALENDAR
