BEGIN:VCALENDAR
VERSION:2.0
PRODID:-//hacksw/handcal//NONSGML v1.0//EN
BEGIN:VEVENT
SUMMARY:Table match Seniors Loisirs contre OZOIR BASKET CLUB 77
UID:40dbadbe-d2ee-47ef-beaf-86c27977dcd9
DTSTART:20260531T074500Z
DTEND:20260531T103000Z
LOCATION:Localisation Gymnase des Sablons 77400 St Thibault
CATEGORIES:Administratif
STATUS:
URL;VALUE=URI:https://www.theobasket.fr/evenements/2026/05/31/table-match-seniors-loisirs-contre-ozoir-basket-club-77-2334542
END:VEVENT
END:VCALENDAR
