BEGIN:VCALENDAR
VERSION:2.0
PRODID:-//hacksw/handcal//NONSGML v1.0//EN
BEGIN:VEVENT
SUMMARY:Match Seniors Loisirs a domicile contre OZOIR BASKET CLUB 77
UID:4bcc7d29-10f5-4102-8dab-96b1f2cc5d96
DTSTART:20260531T083000Z
DTEND:20260531T103000Z
LOCATION:Localisation GYMNASE DES SABLONS, rue des Sablons 77400 Saint Thibault
CATEGORIES:Sportif
STATUS:
URL;VALUE=URI:https://www.theobasket.fr/evenements/2026/05/31/match-seniors-loisirs-a-domicile-contre-ozoir-basket-club-77-2323690
END:VEVENT
END:VCALENDAR
