BEGIN:VCALENDAR
VERSION:2.0
PRODID:-//hacksw/handcal//NONSGML v1.0//EN
BEGIN:VEVENT
SUMMARY:Arbitres match Seniors Loisirs contre OZOIR BASKET CLUB 77
UID:82b2761f-d464-4955-9f98-3eceeb980c56
DTSTART:20260531T074500Z
DTEND:20260531T103000Z
LOCATION:Localisation Gymnase des Sablons 77400 St Thibault
CATEGORIES:Administratif
STATUS:
URL;VALUE=URI:https://www.theobasket.fr/evenements/2026/05/31/arbitres-match-seniors-loisirs-contre-ozoir-basket-club-77-2334541
END:VEVENT
END:VCALENDAR
