BEGIN:VCALENDAR
VERSION:2.0
PRODID:-//hacksw/handcal//NONSGML v1.0//EN
BEGIN:VEVENT
SUMMARY:Table de marque match U15M contre CA LIZEEN
UID:3fdce31d-e71b-483a-a66b-a18b31f57bb4
DTSTART:20260530T134500Z
DTEND:20260530T163000Z
LOCATION:Localisation   
CATEGORIES:Administratif
STATUS:
URL;VALUE=URI:https://www.theobasket.fr/evenements/2026/05/30/table-de-marque-match-u15m-contre-ca-lizeen-2433249
END:VEVENT
END:VCALENDAR
