BEGIN:VCALENDAR
VERSION:2.0
PRODID:-//hacksw/handcal//NONSGML v1.0//EN
BEGIN:VEVENT
SUMMARY:Delegue match U15M contre CA LIZEEN
UID:db6c9ac6-e4d5-4e84-9c56-3e85f622d052
DTSTART:20260530T134500Z
DTEND:20260530T163000Z
LOCATION:Localisation   
CATEGORIES:Administratif
STATUS:
URL;VALUE=URI:https://www.theobasket.fr/evenements/2026/05/30/delegue-match-u15m-contre-ca-lizeen-2433250
END:VEVENT
END:VCALENDAR
