BEGIN:VCALENDAR
VERSION:2.0
PRODID:-//hacksw/handcal//NONSGML v1.0//EN
BEGIN:VEVENT
SUMMARY:Delegue match U13F contre CS MEAUX
UID:4ab63650-6cb3-49f3-8e9f-a13a20fd94ab
DTSTART:20260523T134500Z
DTEND:20260523T163000Z
LOCATION:Localisation   
CATEGORIES:Administratif
STATUS:
URL;VALUE=URI:https://www.theobasket.fr/evenements/2026/05/23/delegue-match-u13f-contre-cs-meaux-2433307
END:VEVENT
END:VCALENDAR
