BEGIN:VCALENDAR
VERSION:2.0
PRODID:-//hacksw/handcal//NONSGML v1.0//EN
BEGIN:VEVENT
SUMMARY:Arbitres match U13F contre CS MEAUX
UID:cf712e07-15de-43cc-84d0-5612932eb92f
DTSTART:20260523T134500Z
DTEND:20260523T163000Z
LOCATION:Localisation   
CATEGORIES:Administratif
STATUS:
URL;VALUE=URI:https://www.theobasket.fr/evenements/2026/05/23/arbitres-match-u13f-contre-cs-meaux-2433303
END:VEVENT
END:VCALENDAR
