BEGIN:VCALENDAR
VERSION:2.0
PRODID:-//hacksw/handcal//NONSGML v1.0//EN
BEGIN:VEVENT
SUMMARY:Table de marque match U15M contre VAIRES BASKET
UID:81c60e7c-2360-4072-a45c-28f164659128
DTSTART:20260516T111500Z
DTEND:20260516T140000Z
LOCATION:Localisation   
CATEGORIES:Administratif
STATUS:
URL;VALUE=URI:https://www.theobasket.fr/evenements/2026/05/16/table-de-marque-match-u15m-contre-vaires-basket-2440989
END:VEVENT
END:VCALENDAR
