BEGIN:VCALENDAR
VERSION:2.0
PRODID:-//hacksw/handcal//NONSGML v1.0//EN
BEGIN:VEVENT
SUMMARY:Table de marque match U13M contre MLV BASKET VAL MAUBUEE
UID:8f6b6548-8efb-406b-aff9-58a6db1c8952
DTSTART:20260516T151500Z
DTEND:20260516T180000Z
LOCATION:Localisation   
CATEGORIES:Administratif
STATUS:
URL;VALUE=URI:https://www.theobasket.fr/evenements/2026/05/16/table-de-marque-match-u13m-contre-mlv-basket-val-maubuee-2441001
END:VEVENT
END:VCALENDAR
