BEGIN:VCALENDAR
VERSION:2.0
PRODID:-//hacksw/handcal//NONSGML v1.0//EN
BEGIN:VEVENT
SUMMARY:Table de marque match U13F contre US ROISSY EN BRIE
UID:d28dd9ab-8489-4fb9-9cde-1d0511e78c83
DTSTART:20260516T131500Z
DTEND:20260516T160000Z
LOCATION:Localisation   
CATEGORIES:Administratif
STATUS:
URL;VALUE=URI:https://www.theobasket.fr/evenements/2026/05/16/table-de-marque-match-u13f-contre-us-roissy-en-brie-2440993
END:VEVENT
END:VCALENDAR
