BEGIN:VCALENDAR
VERSION:2.0
PRODID:-//hacksw/handcal//NONSGML v1.0//EN
BEGIN:VEVENT
SUMMARY:Delegue match U15M contre VAIRES BASKET
UID:be1638c0-78fa-4873-9103-f1f972f56dde
DTSTART:20260516T111500Z
DTEND:20260516T140000Z
LOCATION:Localisation   
CATEGORIES:Administratif
STATUS:
URL;VALUE=URI:https://www.theobasket.fr/evenements/2026/05/16/delegue-match-u15m-contre-vaires-basket-2440990
END:VEVENT
END:VCALENDAR
