BEGIN:VCALENDAR
VERSION:2.0
PRODID:-//hacksw/handcal//NONSGML v1.0//EN
BEGIN:VEVENT
SUMMARY:Delegue match U13M contre MLV BASKET VAL MAUBUEE
UID:2dc8a76e-dbc4-4494-b7fd-d7888b5371c7
DTSTART:20260516T151500Z
DTEND:20260516T180000Z
LOCATION:Localisation   
CATEGORIES:Administratif
STATUS:
URL;VALUE=URI:https://www.theobasket.fr/evenements/2026/05/16/delegue-match-u13m-contre-mlv-basket-val-maubuee-2441004
END:VEVENT
END:VCALENDAR
