BEGIN:VCALENDAR
VERSION:2.0
PRODID:-//hacksw/handcal//NONSGML v1.0//EN
BEGIN:VEVENT
SUMMARY:Delegue match U13F contre US ROISSY EN BRIE
UID:52fc82a3-4ab0-4d76-9a6f-12105c813a6b
DTSTART:20260516T131500Z
DTEND:20260516T160000Z
LOCATION:Localisation   
CATEGORIES:Administratif
STATUS:
URL;VALUE=URI:https://www.theobasket.fr/evenements/2026/05/16/delegue-match-u13f-contre-us-roissy-en-brie-2440994
END:VEVENT
END:VCALENDAR
