BEGIN:VCALENDAR
VERSION:2.0
PRODID:-//hacksw/handcal//NONSGML v1.0//EN
BEGIN:VEVENT
SUMMARY:Arbitres match U15M contre VAIRES BASKET
UID:2e00a32e-0ea0-43c4-b503-b2dd7e456c4f
DTSTART:20260516T111500Z
DTEND:20260516T140000Z
LOCATION:Localisation   
CATEGORIES:Administratif
STATUS:
URL;VALUE=URI:https://www.theobasket.fr/evenements/2026/05/16/arbitres-match-u15m-contre-vaires-basket-2440988
END:VEVENT
END:VCALENDAR
