BEGIN:VCALENDAR
VERSION:2.0
PRODID:-//hacksw/handcal//NONSGML v1.0//EN
BEGIN:VEVENT
SUMMARY:Arbitres match U13F contre US ROISSY EN BRIE
UID:d98f5920-e6ff-49fd-9bd2-e928ef5b9b66
DTSTART:20260516T131500Z
DTEND:20260516T160000Z
LOCATION:Localisation   
CATEGORIES:Administratif
STATUS:
URL;VALUE=URI:https://www.theobasket.fr/evenements/2026/05/16/arbitres-match-u13f-contre-us-roissy-en-brie-2440991
END:VEVENT
END:VCALENDAR
