BEGIN:VCALENDAR
VERSION:2.0
PRODID:-//hacksw/handcal//NONSGML v1.0//EN
BEGIN:VEVENT
SUMMARY:Match PRF a domicile contre AMICAL BASKET CLUB DE LA GOELE
UID:4c6642dd-26c0-460d-8f30-8680aae37f67
DTSTART:20260512T183000Z
DTEND:20260512T203000Z
LOCATION:Localisation GYMNASE DES SABLONS  Saint-Thibault-des-Vignes
CATEGORIES:Sportif
STATUS:
URL;VALUE=URI:https://www.theobasket.fr/evenements/2026/05/12/match-prf-a-domicile-contre-amical-basket-club-de-la-goele-2323053
END:VEVENT
END:VCALENDAR
