BEGIN:VCALENDAR
VERSION:2.0
PRODID:-//hacksw/handcal//NONSGML v1.0//EN
BEGIN:VEVENT
SUMMARY:Table de marque Match U13M contre BUSSY BAKET CLUB
UID:6a8e8296-23ef-4721-b53c-c7c857ad0b91
DTSTART:20260509T111500Z
DTEND:20260509T140000Z
LOCATION:Localisation   
CATEGORIES:Administratif
STATUS:
URL;VALUE=URI:https://www.theobasket.fr/evenements/2026/05/09/table-de-marque-match-u13m-contre-bussy-baket-club-2440974
END:VEVENT
END:VCALENDAR
