BEGIN:VCALENDAR
VERSION:2.0
PRODID:-//hacksw/handcal//NONSGML v1.0//EN
BEGIN:VEVENT
SUMMARY:Table de marque match U13F contre CHELLES BASKET COURTRY
UID:411a284e-07fb-419b-8c66-3f4604e11093
DTSTART:20260509T131500Z
DTEND:20260509T160000Z
LOCATION:Localisation   
CATEGORIES:Administratif
STATUS:
URL;VALUE=URI:https://www.theobasket.fr/evenements/2026/05/09/table-de-marque-match-u13f-contre-chelles-basket-courtry-2440978
END:VEVENT
END:VCALENDAR
