BEGIN:VCALENDAR
VERSION:2.0
PRODID:-//hacksw/handcal//NONSGML v1.0//EN
BEGIN:VEVENT
SUMMARY:Delegue match U13M contre BUSSY BASKET CLUB
UID:737889fe-d5dd-46e1-95a1-6216419d508a
DTSTART:20260509T111500Z
DTEND:20260509T140000Z
LOCATION:Localisation   
CATEGORIES:Administratif
STATUS:
URL;VALUE=URI:https://www.theobasket.fr/evenements/2026/05/09/delegue-match-u13m-contre-bussy-basket-club-2440975
END:VEVENT
END:VCALENDAR
