BEGIN:VCALENDAR
VERSION:2.0
PRODID:-//hacksw/handcal//NONSGML v1.0//EN
BEGIN:VEVENT
SUMMARY:Delegue match U13F contre CHELLES BASKET COURTRY
UID:3aad56c2-50ef-4ace-a263-744facd0f5fa
DTSTART:20260509T131500Z
DTEND:20260509T160000Z
LOCATION:Localisation   
CATEGORIES:Administratif
STATUS:
URL;VALUE=URI:https://www.theobasket.fr/evenements/2026/05/09/delegue-match-u13f-contre-chelles-basket-courtry-2440981
END:VEVENT
END:VCALENDAR
