BEGIN:VCALENDAR
VERSION:2.0
PRODID:-//hacksw/handcal//NONSGML v1.0//EN
BEGIN:VEVENT
SUMMARY:Arbitres match U18M contre USB TRILPORT
UID:7812a971-d9b0-4934-8e37-79602080e131
DTSTART:20260509T151500Z
DTEND:20260509T180000Z
LOCATION:Localisation   
CATEGORIES:Administratif
STATUS:
URL;VALUE=URI:https://www.theobasket.fr/evenements/2026/05/09/arbitres-match-u18m-contre-usb-trilport-2440983
END:VEVENT
END:VCALENDAR
