BEGIN:VCALENDAR
VERSION:2.0
PRODID:-//hacksw/handcal//NONSGML v1.0//EN
BEGIN:VEVENT
SUMMARY:Arbitres match U13M contre BUSSY BASKET CLUB
UID:c03552c1-fea2-4bb8-8370-b0e6ed252d06
DTSTART:20260509T111500Z
DTEND:20260509T140000Z
LOCATION:Localisation   
CATEGORIES:Administratif
STATUS:
URL;VALUE=URI:https://www.theobasket.fr/evenements/2026/05/09/arbitres-match-u13m-contre-bussy-basket-club-2440969
END:VEVENT
END:VCALENDAR
