BEGIN:VCALENDAR
VERSION:2.0
PRODID:-//hacksw/handcal//NONSGML v1.0//EN
BEGIN:VEVENT
SUMMARY:Entrainement mutli-niveaux
UID:57e1309a-d3c6-4dee-af2d-03496774a050
DTSTART:20260424T170000Z
DTEND:20260424T183000Z
LOCATION:Localisation   
CATEGORIES:Entrainement
STATUS:
URL;VALUE=URI:https://www.theobasket.fr/evenements/2026/04/24/entrainement-mutli-niveaux-2441810
END:VEVENT
END:VCALENDAR
