BEGIN:VCALENDAR
VERSION:2.0
PRODID:-//hacksw/handcal//NONSGML v1.0//EN
BEGIN:VEVENT
SUMMARY:Entrainement mutli-niveaux
UID:4e66a12c-6c65-41de-a557-c2dff832c71b
DTSTART:20260421T170000Z
DTEND:20260421T193000Z
LOCATION:Localisation   
CATEGORIES:Entrainement
STATUS:
URL;VALUE=URI:https://www.theobasket.fr/evenements/2026/04/21/entrainement-mutli-niveaux-2441809
END:VEVENT
END:VCALENDAR
